BEGIN:VCALENDAR
VERSION:2.0
PRODID:icalendar-ruby
CALSCALE:GREGORIAN
METHOD:PUBLISH
BEGIN:VEVENT
DTSTAMP:20260422T144303Z
UID:46-482540@fremontumc-nc.org
DTSTART;VALUE=DATE:20260419
DTEND;VALUE=DATE:20260524
CLASS:PUBLIC
CREATED:20260421T232903
DESCRIPTION:We are close to our goal of $10K - and are hoping to continue u
 ntil we can reach that goal.  We need to raise: $1\,481.30 at which point
 \, we can alleviate $1\,000\,000 of medical debt here in Wayne County.  I
 f you'd like to give to this worthy cause\, simply indicate that on the me
 mo line of a check\, or on the envelop.  If you would like to give digita
 lly use the give button below and in the extra details section on the memo
  like type “Undue Medical Debt”.  Thank you for supporting this cause
 .\n 
LAST-MODIFIED:20260421T232903
LOCATION:
SUMMARY:Undue Medical Debt
URL;VALUE=URI:https://fremontumc-nc.org/events/undue-medical-debt/2026-04-1
 9
ATTACH;FILENAME=unduemedical.jpg;FMTTYPE=image/jpeg:https://dq5pwpg1q8ru0.c
 loudfront.net/2026/04/22/03/27/39/c81fe3d7-7dea-4deb-8662-fe05dd0bc6be/und
 uemedical.jpg
END:VEVENT
END:VCALENDAR
