BEGIN:VCALENDAR
VERSION:2.0
PRODID:icalendar-ruby
CALSCALE:GREGORIAN
METHOD:PUBLISH
BEGIN:VEVENT
DTSTAMP:20260425T220757Z
UID:18-491847@fremontumc-nc.org
DTSTART:20261011T141500Z
DTEND:20261011T150000Z
CLASS:PUBLIC
CREATED:20260425T164155
DESCRIPTION:
LAST-MODIFIED:20260425T164155
LOCATION:Fremont United Methodist Church - Jam Classroom
SUMMARY:Sunday JAM
URL;VALUE=URI:https://fremontumc-nc.org/events/sunday-jam/2026-10-11
ATTACH;FILENAME=JAM.png;FMTTYPE=image/png:https://dq5pwpg1q8ru0.cloudfront.
 net/2026/01/16/03/24/18/a46cedc7-5dcb-4d84-8c94-254597a99167/JAM.png
END:VEVENT
END:VCALENDAR
