BEGIN:VCALENDAR
VERSION:2.0
PRODID:icalendar-ruby
CALSCALE:GREGORIAN
METHOD:PUBLISH
BEGIN:VEVENT
DTSTAMP:20260421T131730Z
UID:43-479125@fremontumc-nc.org
DTSTART:20260607T150000Z
DTEND:20260607T160000Z
CLASS:PUBLIC
CREATED:20260420T172523
DESCRIPTION:After worship!
LAST-MODIFIED:20260420T172523
LOCATION:Fremont United Methodist Fellowship Hall - Conference Room
SUMMARY:Summer JAM - VBS/Education Comm. Mtg
URL;VALUE=URI:https://fremontumc-nc.org/events/summer-jam-vbs-education-com
 m-mtg/2026-06-07
ATTACH;FILENAME=JAM.png;FMTTYPE=image/png:https://dq5pwpg1q8ru0.cloudfront.
 net/2026/04/07/20/12/02/6ef9607c-051d-4a7c-ba10-fbfc805376db/JAM.png
END:VEVENT
END:VCALENDAR
