BEGIN:VCALENDAR
VERSION:2.0
PRODID:icalendar-ruby
CALSCALE:GREGORIAN
METHOD:PUBLISH
BEGIN:VEVENT
DTSTAMP:20260421T131150Z
UID:45-480413@fremontumc-nc.org
DTSTART:20260419T140000Z
DTEND:20260503T150000Z
CLASS:PUBLIC
CREATED:20260421T085905
DESCRIPTION:We will honor/remember our Mothers on May 10th and Fathers on J
 une 21st with a special bulletin for each of those Sundays.   Complete t
 he UMW Mother's &amp\; Father's Day Honors 2026 form and attach $5 for eac
 h name.  You can get a form from the bulletins on April 19th\, April 26th
 \, and May 3rd or download the form from our website.  If you are unable 
 to get the form\, please contact Shari Stewart at 919-222-4576.   You m
 ay turn in the cash or write a check to FUMC with Mothers/Fathers on the m
 emo line or use the give option on our website.  If you use the give opti
 on on our website in the extra details section\, please state Mothers/Fath
 ers in the memo section.  The deadline to turn in the names for both Moth
 ers and Fathers is Sunday\, May 3\, 2026.
LAST-MODIFIED:20260421T085905
LOCATION:
SUMMARY:Honoring our Mothers and Fathers
URL;VALUE=URI:https://fremontumc-nc.org/events/honoring-our-mothers-and-fat
 hers/2026-04-19
ATTACH;FILENAME=2026-Honor-our-Mothers--Fathers.png;FMTTYPE=image/png:https
 ://dq5pwpg1q8ru0.cloudfront.net/2026/04/20/21/37/12/f09c4778-3991-4b4e-ba3
 4-02ad343f9713/2026-Honor-our-Mothers--Fathers.png
ATTACH;FILENAME=UMW Mother's & Father's Day Honors 2026.pdf;FMTTYPE=applica
 tion/pdf:https://dq5pwpg1q8ru0.cloudfront.net/2026/04/21/12/59/05/0432b786
 -7103-4320-8182-34b651aa12e4/UMW%20Mother's%20&%20Father's%20Day%20Honors%
 202026.pdf
END:VEVENT
END:VCALENDAR
