BEGIN:VCALENDAR
VERSION:2.0
PRODID:icalendar-ruby
CALSCALE:GREGORIAN
METHOD:PUBLISH
BEGIN:VEVENT
DTSTAMP:20260422T143941Z
UID:47-482541@fremontumc-nc.org
DTSTART;VALUE=DATE:20260501
DTEND;VALUE=DATE:20260531
CLASS:PUBLIC
CREATED:20260422T022219
DESCRIPTION:Beginning May 1st\, we'll be collecting box fans to distribute 
 to folks who may not have adequate cooling in their homes.  We'll be coll
 ecting fans the entire month of May!
LAST-MODIFIED:20260422T022219
LOCATION:
SUMMARY:Box Fan Drive
URL;VALUE=URI:https://fremontumc-nc.org/events/box-fan-drive/2026-05-01
ATTACH;FILENAME=Box-Fan-2.jpg;FMTTYPE=image/jpeg:https://dq5pwpg1q8ru0.clou
 dfront.net/2026/04/22/06/22/19/915576e7-7063-4dce-b0b4-e8bb313af802/Box-Fa
 n-2.jpg
END:VEVENT
END:VCALENDAR
